{"text_format":"1","workbook":"xlsx","n_sheets":3,"sheets":["Sheet1","Sheet2","Sheet3"],"not_rendered":{"charts":0,"images":0,"macros":1,"external_links":0,"defined_names":0,"comments":0,"pivot_tables":0},"unopened":[],"bounds":{"document_bytes":16777216,"sheet_cells":100000,"rows_first":2000,"rows_last":500,"rows_between":2000,"halvings":0,"cell_chars":16384,"cell_head_chars":4096},"cells_cut":0,"cells_raw":0,"read":"whole","date_system":"1900"}

{"sheet":"Sheet1","index":0,"n_rows":50,"n_cols":38,"rows_kept":50,"cut":false,"hidden":false,"merged":[]}
[0,0,0,2,2,0,2,0,0,0,2,2,0,0,2,0,0,null,0,0,0,0,0,0,0,0,0,0,0,0,0,0,0,0,0]
[2,0,2,0,0,2,0,0,2,0,0,2,2,0,0,0,0,null,0,0,0,0,0,0,0,0,0,0,0,0,0,0,0,0,0]
[0,2,0,0,2,0,2,0,0,2,0,2,2,0,2,2,2,null,0,0,0,0,0,0,0,0,0,0,0,0,0,0,0,0,0]
[2,2,0,0,2,2,2,2,0,2,2,0,2,0,2,2,0,null,0,0,0,0,0,0,0,0,0,0,0,0,0,0,0,0,0]
[2,0,0,2,0,2,2,0,0,0,2,2,0,0,0,0,2,null,0,0,0,0,0,0,0,0,0,0,0,0,0,0,0,0,0]
[0,0,2,0,0,0,0,2,2,2,2,2,0,2,2,2,0,null,0,0,0,0,0,0,0,0,0,0,0,0,0,0,0,0,0]
[2,0,2,0,0,2,0,0,0,2,2,0,0,0,0,0,2,null,0,0,0,0,0,0,0,0,0,0,0,0,0,0,0,0,0]
[2,2,2,2,2,2,0,0,0,0,2,2,0,0,2,2,0,null,0,0,0,0,0,0,0,0,0,0,0,0,0,0,0,0,0]
[0,0,2,0,2,0,0,2,2,2,0,2,0,2,2,2,0,null,0,0,0,0,0,0,0,0,0,0,0,0,0,0,0,0,0]
[0,2,0,2,2,2,2,0,2,2,0,2,2,2,0,2,0,null,0,0,0,0,0,0,0,0,0,0,0,0,0,0,0,0,0]
[0,0,0,2,0,2,0,2,0,2,0,0,2,2,0,2,0,null,0,0,0,0,0,0,0,0,0,0,0,0,0,0,0,0,0]
[2,2,2,0,0,0,2,0,1,0,0,0,2,0,2,0,2,null,0,0,0,0,0,0,0,0,1,0,0,0,0,0,0,0,0]
[2,0,0,0,2,0,2,0,0,0,0,2,2,2,2,0,2,null,0,0,0,0,0,0,0,0,0,0,0,0,0,0,0,0,0]
[0,2,0,0,2,0,0,0,0,2,0,2,0,2,2,0,2,null,0,0,0,0,0,0,0,0,0,0,0,0,0,0,0,0,0]
[0,2,2,2,2,0,0,0,2,0,0,0,2,0,0,2,0,null,0,0,0,0,0,0,0,0,0,0,0,0,0,0,0,0,0,null,"Legend:"]
[0,2,2,2,2,0,0,0,2,0,2,2,2,0,2,0,2,null,0,0,0,0,0,0,0,0,0,0,0,0,0,0,0,0,0]
[2,2,2,2,0,0,0,0,2,2,2,2,0,2,0,0,0,null,0,0,0,0,0,0,0,0,0,0,0,0,0,0,0,0,0,null,null,"receptive to cAMP"]
[0,0,2,0,2,0,0,0,2,2,2,0,2,0,0,0,2,null,0,0,0,0,0,0,0,0,0,0,0,0,0,0,0,0,0]
[0,0,0,0,0,2,2,0,0,0,2,2,2,2,0,2,2,null,0,0,0,0,0,0,0,0,0,0,0,0,0,0,0,0,0,null,null,"emmitting cAMP"]
[2,0,0,0,2,0,2,2,0,2,2,2,0,0,2,2,0,null,0,0,0,0,0,0,0,0,0,0,0,0,0,0,0,0,0]
[0,0,0,2,0,2,2,2,2,2,0,0,2,0,2,0,0,null,0,0,0,0,0,0,0,0,0,0,0,0,0,0,0,0,0,null,null,"moving"]
[2,2,2,2,0,2,0,2,0,0,2,0,2,0,0,0,0,null,0,0,0,0,0,0,0,0,0,0,0,0,0,0,0,0,0]
[0,2,0,2,2,0,2,2,2,0,2,0,2,2,0,2,0,null,0,0,0,0,0,0,0,0,0,0,0,0,0,0,0,0,0,null,null,"refractory"]
[null,null,null,null,null,null,null,"Cells",null,null,null,null,null,null,null,null,null,null,null,null,null,null,null,null,null,null,"cAMP"]
["Step:",null,null,null,0,null,null,null,null,null,null,null,null,null,null,null,null,null,"Step:",null,null,null,null,null,null,0]
["Refractory:",null,null,null,3,null,null,"Center Cells: ",null,null,null,0,null,null,null,null,null,null,"Refractory:",null,null,null,null,null,null,3]
["Density:",null,null,null,189,null,null,null,null,null,null,null,null,null,null,null,null,null,"Time between cAMPwaves:",null,null,null,null,null,null,7]
[0,0,0,0,0,0,0,0,0,0,0,0,0,0,0,0,0]
[0,0,0,0,0,0,0,0,0,0,0,0,0,0,0,0,0]
[0,0,0,0,0,0,0,0,0,0,0,0,0,0,0,0,0]
[0,0,0,0,0,0,0,0,0,0,0,0,0,0,0,0,0]
[0,0,0,0,0,0,0,0,0,0,0,0,0,0,0,0,0,"a=",0]
[0,0,0,0,0,0,0,0,0,0,0,0,0,0,0,0,0,"b=",0]
[0,0,0,0,0,0,0,0,0,0,0,0,0,0,0,0,0,"d=",0]
[0,0,0,0,0,0,0,0,0,0,0,0,0,0,0,0,0,"e=",0]
[0,0,0,0,0,0,0,0,0,0,0,0,0,0,0,0,0,"f=",0]
[0,0,0,0,0,0,0,0,0,0,0,0,0,0,0,0,0,"g=",0]
[0,0,0,0,0,0,0,0,0,0,0,0,0,0,0,0,0,"h=",0]
[0,0,0,0,0,0,0,0,0,0,0,0,0,0,0,0,0,"k=",0]
[0,0,0,0,0,0,0,0,0,0,0,0,0,0,0,0,0,"l=",0]
[0,0,0,0,0,0,0,0,0,0,0,0,0,0,0,0,0,"m=",0]
[0,0,0,0,0,0,0,0,0,0,0,0,0,0,0,0,0,"n=",0]
[0,0,0,0,0,0,0,0,0,0,0,0,0,0,0,0,0,"o =",52]
[0,0,0,0,0,0,0,0,0,0,0,0,0,0,0,0,0]
[0,0,0,0,0,0,0,0,0,0,0,0,0,0,0,0,0]
[0,0,0,0,0,0,0,0,0,0,0,0,0,0,0,0,0]
[0,0,0,0,0,0,0,0,0,0,0,0,0,0,0,0,0]
[0,0,0,0,0,0,0,0,0,0,0,0,0,0,0,0,0]
[0,0,0,0,0,0,0,0,0,0,0,0,0,0,0,0,0]
[0,0,0,0,0,0,0,0,0,0,0,0,0,0,0,0,0]

{"sheet":"Sheet2","index":1,"n_rows":15,"n_cols":18,"rows_kept":15,"cut":false,"hidden":false,"merged":[]}
[null,null,null,null,null,null,null,null,null,null,null,null,null,null,null,null,null,5]
[]
[]
[]
[]
[]
[]
[]
[null,null,null,null,null,{"$f":"IF(Sheet2!R1=4,1,0)","v":0},{"$f":"IF(Sheet2!R1=4,1,0)","v":0},{"$f":"IF(Sheet2!R1=4,1,0)","v":0},{"$f":"IF(Sheet2!R1=4,1,0)","v":0},{"$f":"IF(Sheet2!R1=4,1,0)","v":0},{"$f":"IF(Sheet2!R1=4,1,0)","v":0},{"$f":"IF(Sheet2!R1=4,1,0)","v":0}]
[null,null,null,null,null,{"$f":"IF(Sheet2!R1=4,1,0)","v":0},{"$f":"IF(Sheet2!R1=3,1,0)","v":0},{"$f":"IF(Sheet2!R1=3,1,0)","v":0},{"$f":"IF(Sheet2!R1=3,1,0)","v":0},{"$f":"IF(Sheet2!R1=3,1,0)","v":0},{"$f":"IF(Sheet2!R1=3,1,0)","v":0},{"$f":"IF(Sheet2!R1=4,1,0)","v":0}]
[null,null,null,null,null,{"$f":"IF(Sheet2!R1=4,1,0)","v":0},{"$f":"IF(Sheet2!R1=3,1,0)","v":0},{"$f":"IF(Sheet2!R1=2,1,0)","v":0},{"$f":"IF(Sheet2!R1=2,1,0)","v":0},{"$f":"IF(Sheet2!R1=2,1,0)","v":0},{"$f":"IF(Sheet2!R1=3,1,0)","v":0},{"$f":"IF(Sheet2!R1=4,1,0)","v":0}]
[null,null,null,null,null,{"$f":"IF(Sheet2!R1=4,1,0)","v":0},{"$f":"IF(Sheet2!R1=3,1,0)","v":0},{"$f":"IF(Sheet2!R1=2,1,0)","v":0},{"$f":"IF(Sheet2!R1=1,1,)","v":0},{"$f":"IF(Sheet2!R1=2,1,0)","v":0},{"$f":"IF(Sheet2!R1=3,1,0)","v":0},{"$f":"IF(Sheet2!R1=4,1,0)","v":0}]
[null,null,null,null,null,{"$f":"IF(Sheet2!R1=4,1,0)","v":0},{"$f":"IF(Sheet2!R1=3,1,0)","v":0},{"$f":"IF(Sheet2!R1=2,1,0)","v":0},{"$f":"IF(Sheet2!R1=2,1,0)","v":0},{"$f":"IF(Sheet2!R1=2,1,0)","v":0},{"$f":"IF(Sheet2!R1=3,1,0)","v":0},{"$f":"IF(Sheet2!R1=4,1,0)","v":0}]
[null,null,null,null,null,{"$f":"IF(Sheet2!R1=4,1,0)","v":0},{"$f":"IF(Sheet2!R1=3,1,0)","v":0},{"$f":"IF(Sheet2!R1=3,1,0)","v":0},{"$f":"IF(Sheet2!R1=3,1,0)","v":0},{"$f":"IF(Sheet2!R1=3,1,0)","v":0},{"$f":"IF(Sheet2!R1=3,1,0)","v":0},{"$f":"IF(Sheet2!R1=4,1,0)","v":0}]
[null,null,null,null,null,{"$f":"IF(Sheet2!R1=4,1,0)","v":0},{"$f":"IF(Sheet2!R1=4,1,0)","v":0},{"$f":"IF(Sheet2!R1=4,1,0)","v":0},{"$f":"IF(Sheet2!R1=4,1,0)","v":0},{"$f":"IF(Sheet2!R1=4,1,0)","v":0},{"$f":"IF(Sheet2!R1=4,1,0)","v":0},{"$f":"IF(Sheet2!R1=4,1,0)","v":0}]

{"sheet":"Sheet3","index":2,"n_rows":0,"n_cols":0,"rows_kept":0,"cut":false,"hidden":false,"merged":[]}